BEGIN:VCALENDAR
VERSION:2.0
PRODID:-//Fernando sor - ECPv6.9.0//NONSGML v1.0//EN
CALSCALE:GREGORIAN
METHOD:PUBLISH
X-ORIGINAL-URL:https://www.fernandosor.edu.co
X-WR-CALDESC:Eventos para Fernando sor
REFRESH-INTERVAL;VALUE=DURATION:PT1H
X-Robots-Tag:noindex
X-PUBLISHED-TTL:PT1H
BEGIN:VTIMEZONE
TZID:America/Bogota
BEGIN:STANDARD
TZOFFSETFROM:-0500
TZOFFSETTO:-0500
TZNAME:-05
DTSTART:20260101T000000
END:STANDARD
END:VTIMEZONE
BEGIN:VEVENT
DTSTART;VALUE=DATE:20260322
DTEND;VALUE=DATE:20260325
DTSTAMP:20260425T060438
CREATED:20230216T015208Z
LAST-MODIFIED:20260325T222005Z
UID:10109-1774137600-1774396799@www.fernandosor.edu.co
SUMMARY:Certificación Consolas Midas
DESCRIPTION:Certificación\nConsolas Midas\nOperación de Consolas de Audio\nCertifiación\nConsolas MIDAS\nCertificación en Consolas Midas y Behringer \n Fechas: 22\, 23 y 24 de abril \nPrecio $ 950.000 \nDurante tres días intensivos\, aprenderás a dominar todos los elementos clave de una consola digital y a desarrollarte como ingeniero de mezcla. No se trata solo de conocer los equipos\, sino de cómo abordar cualquier consola con bases sólidas\, desarrollando tu criterio\, técnica y capacidad para tomar decisiones conscientes en conciertos y festivales. \nAprenderás a manejar todos los procesos esenciales de una consola profesional: ruteo\, flujo de señal\, macros\, efectos\, ecualización\, dinámica\, preamplificadores de alta calidad y mezcla en vivo. Esto te permitirá tomar decisiones precisas como ingeniero\, logrando resultados profesionales que dependan tanto de tu técnica como del equipo. \nConsolas disponibles:\n* Midas Heritage\n* Midas M32\n* Behringer Wing BK\n* Behringer Wing Rack \nStages y protocolos de comunicación:\nTrabajarás con Midas DL16 y DL251\, reconociendo y dominando AES50\, usado tanto por Midas como por Behringer. Aprenderás todas las configuraciones posibles: un stage con una consola\, un stage compartido entre dos consolas\, ruteo avanzado y optimización del flujo de señal en escenarios de conciertos y festivales. Esto te permitirá aprovechar cada canal y recurso de la consola y adaptarte a cualquier situación profesional. \nRelaciones y crecimiento profesional:\nAdemás de la técnica\, podrás relacionarte con grandes ingenieros\, compañeros de distintas compañías y profesionales de la industria\, compartiendo experiencias y conocimientos. Conocerás quiénes usan estas consolas\, cómo las abordan y por qué\, y obtendrás una certificación de la Escuela de Música Fernando Sor\, la escuela de audio más importante de Latinoamérica\, abriendo puertas a nuevas oportunidades de trabajo y crecimiento profesional. \nTalleres y maestros:\n* 22 y 23 de abril – Horst Wallman: Ingeniero de Monsieur Periné\, con experiencia en giras y conciertos sinfónicos.\n* 24 de abril – Mauricio Vilar: Ingeniero de Juanes\, Carlos Vives y Andrés Cepeda\, enseñando mezcla en conciertos y festivales\, logrando claridad y coherencia en todos los instrumentos.\n*  También estará Daniel Bayona\, representante de Midas y Behringer en Colombia por SuperAudio. \nOperación de Sistemas RF para Audio Profesional\nOperación de Consolas Digitales de Audio Profesional\nDiseño y optimización  para Sistemas de Refuerzo Sonoro\n\nContactar un Asesor\n\n\nPago en Linea\n\n \nNuestras\nInstalaciones\n \n\n\n\n\n\n\n\n\n\n\n\n\n\n\n\nPresentación\nEstudiantes\n \nMedios\nde Pago\n \nCesantías \n \nFinanciación \nExterna \n \nTarjeta débito o crédito \n \nPagos en línea
URL:https://www.fernandosor.edu.co/calendario-eventos/certificacion-consolas-midas/
LOCATION:Auditorio Fernando Sor\, Cra. 43a ## 21-35\, Bogotá\, Colombia
CATEGORIES:Audio,Certificaciones Audio e Iluminación,Clase Magistral
ATTACH;FMTTYPE=image/jpeg:https://www.fernandosor.edu.co/wp-content/uploads/certirficacion-consolas-midas.jpg
END:VEVENT
END:VCALENDAR