BEGIN:VCALENDAR
VERSION:2.0
PRODID:-//Fernando sor - ECPv6.9.0//NONSGML v1.0//EN
CALSCALE:GREGORIAN
METHOD:PUBLISH
X-ORIGINAL-URL:https://www.fernandosor.edu.co
X-WR-CALDESC:Eventos para Fernando sor
REFRESH-INTERVAL;VALUE=DURATION:PT1H
X-Robots-Tag:noindex
X-PUBLISHED-TTL:PT1H
BEGIN:VTIMEZONE
TZID:America/Bogota
BEGIN:STANDARD
TZOFFSETFROM:-0500
TZOFFSETTO:-0500
TZNAME:-05
DTSTART:20250101T000000
END:STANDARD
END:VTIMEZONE
BEGIN:VEVENT
DTSTART;TZID=America/Bogota:20250923T190000
DTEND;TZID=America/Bogota:20250923T210000
DTSTAMP:20260424T023445
CREATED:20250819T185928Z
LAST-MODIFIED:20250820T123144Z
UID:15868-1758654000-1758661200@www.fernandosor.edu.co
SUMMARY:Taller de Batería
DESCRIPTION:[vc_section][vc_row type=»vc_default» bg_type=»image» parallax_style=»vcpb-default» bg_image_new=»id^4578|url^https://www.fernandosor.edu.co/wp-content/uploads/fondo-2.png|caption^null|alt^null|title^fondo 2|description^null» bg_image_repeat=»no-repeat» bg_override=»full» enable_overlay=»enable_overlay_value» overlay_color=»rgba(0\,0\,0\,0.6)» overlay_pattern=»transperant» css=».vc_custom_1671761145583{padding-top: 40px !important;padding-bottom: 40px !important;}»][vc_column width=»1/2″][vc_separator color=»blue»][vc_column_text css=».vc_custom_1755692380109{background-color: #000000 !important;}»] \nTaller de Batería en Bogotá con Zurdo Ortega: El Sonido de la Batería\, Desarrolla tu talento como Baterista y músico de sesión. \n[/vc_column_text][vc_empty_space height=»20px»][vc_btn title=»Contactar aún Asesor» style=»custom» custom_background=»#9b0079″ custom_text=»#ffffff» link=»url:https%3A%2F%2Fwa.link%2Fjjcb9f»][vc_video link=»https://vimeo.com/1110160672″ align=»center» css=»»][vc_custom_heading text=»La Escuela de Música y Audio Fernando Sor te invita al exclusivo taller de batería El Sonido de la Batería: El Sonido de la Batería\, Desarrolla tu talento como Baterista y músico de sesión.\, un espacio diseñado especialmente para músicos de sesión y bateristas que buscan perfeccionar su técnica\, desarrollar un sonido profesional y aprender de la experiencia de uno de los grandes exponentes de la batería en Latinoamérica. \n📅 Fecha: 23 de septiembre\n🕖 Hora: 7:00 p.m.\n📍 Lugar: Auditorio Escuela de Música y Audio Fernando Sor – Bogotá\, Colombia» font_container=»tag:h6|font_size:16|text_align:center|color:%23cecece» google_fonts=»font_family:Abel%3Aregular|font_style:400%20regular%3A400%3Anormal» css=»»][vc_separator color=»blue»][vc_separator color=»blue»][vc_message message_box_color=»black» icon_fontawesome=»fas fa-microphone-alt» css=».vc_custom_1755629585598{background-color: #000000 !important;}»] \nAprende con Zurdo Ortega\, baterista de Camila\nEste taller será dictado por Zurdo Ortega\, baterista\, arreglista y director musical con una trayectoria impresionante en la industria. Desde 2006 es el baterista oficial de la banda Camila\, con quienes ha grabado producciones reconocidas con discos multiplatino y ganadoras de 3 Latin Grammy\, además de girar por más de 20 países. \nActualmente\, Zurdo Ortega forma parte de la gira mundial de Camila “Regresa” 2025 y ha colaborado con artistas de talla internacional como Reik\, Thalía\, Emmanuel\, Mon Laferte\, Leonel García\, Río Roma\, Matisse\, Yuri\, Ana Torroja\, Motel\, María José\, La Barranca\, Gloria Trevi\, Belinda\, Alejandra Guzmán (como director musical) y muchos más. \nCon más de 500 grabaciones publicadas como baterista de sesión\, Zurdo Ortega se ha consolidado como un referente en la creación de un sonido de batería profesional para estudio y en vivo. \n[/vc_message][vc_raw_html]JTVCZWxlbWVudG9yLXRlbXBsYXRlJTIwaWQlM0QlMjI0NDAxJTIyJTVE[/vc_raw_html][/vc_column][vc_column width=»1/2″][vc_column_text]Organiza  Escuela de Música y Audio Fernando Sor[/vc_column_text][vc_message message_box_color=»black» icon_fontawesome=»fas fa-microphone-alt» css=».vc_custom_1755692422257{background-color: #000000 !important;}»] \n¿Qué aprenderás en este taller de batería?\nEn el taller El Sonido de la Batería: Desarrolla tu talento como Baterista y músico de sesión\, Zurdo Ortega compartirá su experiencia acumulada en escenarios internacionales y estudios de grabación de alto nivel. Entre los temas principales encontrarás: \n\n\nLa evolución de la técnica de batería aplicada a músicos de sesión. \n\n\nCómo lograr un sonido profesional en estudio y en vivo. \n\n\nTips de grabación y producción de batería en la industria actual. \n\n\nLa experiencia real detrás de las giras internacionales y sesiones profesionales. \n\n\nUn espacio imperdible para quienes desean llevar su interpretación y sonido a un nivel profesional de clase mundial. \n[/vc_message][vc_separator color=»blue»][vc_separator color=»blue»][vc_message message_box_color=»black» icon_fontawesome=»fas fa-feather» css=».vc_custom_1755629720071{background-color: #000000 !important;}»] \nBiografía resumida de Zurdo Ortega\n\n\nFormación: Licenciatura en Music Performance (Academia de Música Fermatta) y en Jazz (ESM). \n\n\nBandas: Miembro fundador del trío de rock El Viaje de Lázaro. \n\n\nCon Camila: Baterista desde 2006\, grabaciones y giras en más de 20 países. \n\n\nColaboraciones: Ha trabajado con Thalía\, Reik\, Mon Laferte\, Emmanuel\, Matisse\, Yuri\, Río Roma\, Flans\, Sabino\, María José\, Kalimba\, La Barranca\, Daniela Spalla\, Motel\, entre muchos otros. \n\n\nProducción: Cofundador de la productora Cinta Negra Music\, donde ha trabajado en producciones de artistas como Sasha\, Benny y Erik; Timbiriche; Río Roma y más. \n\n\nEducador: Más de 15 años de experiencia como docente en escuelas de música\, universidades y masterclasses en Latinoamérica. \n\n\nEndorsed by: Dominion Cymbals (platillos signature)\, Haram (baquetas)\, Aquarian Drumheads y BK Audio. \n\n\n[/vc_message][vc_message message_box_color=»black» icon_fontawesome=»fas fa-microphone-alt» css=».vc_custom_1755216783553{background-color: #000000 !important;}»]No te pierdas esta oportunidad de participar en el Taller de Gaita Colombiana y Guitarra — El sentido y el sentir de la improvisación Colombiana — una experiencia sonora transformadora liderada por David Amézquita\, que promete acercarte profundamente a la tradición musical colombiana desde una perspectiva creativa y contemporánea.[/vc_message][vc_separator color=»blue»][vc_column_text css=»»]La Escuela de Música y Audio Fernando Sor cuenta con el programa Técnico en Ejecución Musical aprobado por la Secretaria de Educación\, si deseas mayor información dale clip al siguiente botón déjanos tus datos y nosotros lo contactaremos.[/vc_column_text][vc_separator color=»blue»][/vc_column][/vc_row][/vc_section][vc_row][vc_column][/vc_column][/vc_row][vc_row][vc_column][/vc_column][/vc_row]
URL:https://www.fernandosor.edu.co/calendario-eventos/taller-de-bateria/
LOCATION:Auditorio Fernando Sor\, Cra. 43a ## 21-35\, Bogotá\, Colombia
CATEGORIES:Audio,Clase Magistral,Clases de Jazz,Música
ATTACH;FMTTYPE=image/jpeg:https://www.fernandosor.edu.co/wp-content/uploads/Taller-de-Bateria-.jpg
END:VEVENT
END:VCALENDAR