BEGIN:VCALENDAR
VERSION:2.0
PRODID:-//Fernando sor - ECPv6.9.0//NONSGML v1.0//EN
CALSCALE:GREGORIAN
METHOD:PUBLISH
X-ORIGINAL-URL:https://www.fernandosor.edu.co
X-WR-CALDESC:Eventos para Fernando sor
REFRESH-INTERVAL;VALUE=DURATION:PT1H
X-Robots-Tag:noindex
X-PUBLISHED-TTL:PT1H
BEGIN:VTIMEZONE
TZID:America/Bogota
BEGIN:STANDARD
TZOFFSETFROM:-0500
TZOFFSETTO:-0500
TZNAME:-05
DTSTART:20240101T000000
END:STANDARD
END:VTIMEZONE
BEGIN:VEVENT
DTSTART;TZID=America/Bogota:20240516T170000
DTEND;TZID=America/Bogota:20240516T200000
DTSTAMP:20260422T123934
CREATED:20250424T185858Z
LAST-MODIFIED:20250425T211906Z
UID:15438-1715878800-1715889600@www.fernandosor.edu.co
SUMMARY:Taller Mezcla en directo para in ears
DESCRIPTION:[vc_section full_width=»stretch_row» css=».vc_custom_1745598849238{background-position: center !important;background-repeat: no-repeat !important;background-size: cover !important;}»][vc_row type=»vc_default» bg_type=»image» parallax_style=»vcpb-default» bg_image_new=»id^4578|url^https://www.fernandosor.edu.co/wp-content/uploads/fondo-2.png|caption^null|alt^null|title^fondo 2|description^null» bg_image_repeat=»no-repeat» bg_override=»full» enable_overlay=»enable_overlay_value» overlay_color=»rgba(0\,0\,0\,0.6)» overlay_pattern=»transperant» css=».vc_custom_1671762023238{padding-top: 40px !important;padding-bottom: 40px !important;background-color: #000000 !important;}»][vc_column offset=»vc_col-xs-offset-1 vc_col-xs-1″][vc_separator color=»blue»][vc_separator color=»blue»][vc_btn title=»Inscripciones Aquí» style=»custom» custom_background=»#9b0079″ custom_text=»#f9f9f9″ css=».vc_custom_1745521707663{background-color: #00014f !important;}» link=»url:https%3A%2F%2Fdocs.google.com%2Fforms%2Fd%2Fe%2F1FAIpQLSfPwZROWcil1XSlqnPfSg006b9_gGyj1zvDJ5oEUB-vXeHHcg%2Fviewform%3Fusp%3Ddialog»][vc_separator color=»blue»][vc_column_text]La Escuela cuenta con tres cursos amplios  de Audio con certificación: \nOperación de Sistemas RF para Audio Profesional\nOperación de Consolas Digitales de Audio Profesional\nDiseño y optimización  para Sistemas de Refuerzo Sonoro\nSi deseas más información contactenos.[/vc_column_text][vc_separator color=»blue»][vc_separator color=»blue»][vc_separator color=»blue»][/vc_column][/vc_row][/vc_section][vc_row][vc_column][/vc_column][/vc_row][vc_row][vc_column][/vc_column][/vc_row]
URL:https://www.fernandosor.edu.co/calendario-eventos/taller-mezcla-en-directo-para-in-ears-2/
LOCATION:Auditorio Fernando Sor\, Cra. 43a ## 21-35\, Bogotá\, Colombia
CATEGORIES:Audio,Clase Magistral
ATTACH;FMTTYPE=image/jpeg:https://www.fernandosor.edu.co/wp-content/uploads/taller-mezcla-en-directo-para-in-ears-4.jpg
END:VEVENT
END:VCALENDAR